BEGIN:VCALENDAR
VERSION:2.0
PRODID:-//9thIslandChamber - ECPv6.15.20//NONSGML v1.0//EN
CALSCALE:GREGORIAN
METHOD:PUBLISH
X-WR-CALNAME:9thIslandChamber
X-ORIGINAL-URL:https://9thislandchamber.org
X-WR-CALDESC:Events for 9thIslandChamber
REFRESH-INTERVAL;VALUE=DURATION:PT1H
X-Robots-Tag:noindex
X-PUBLISHED-TTL:PT1H
BEGIN:VTIMEZONE
TZID:UTC
BEGIN:STANDARD
TZOFFSETFROM:+0000
TZOFFSETTO:+0000
TZNAME:UTC
DTSTART:20260101T000000
END:STANDARD
END:VTIMEZONE
BEGIN:VEVENT
DTSTART;VALUE=DATE:20270226
DTEND;VALUE=DATE:20270227
DTSTAMP:20260421T003723
CREATED:20260105T104432Z
LAST-MODIFIED:20260206T115839Z
UID:10000014-1803600000-1803686399@9thislandchamber.org
SUMMARY:Aloha Friday Happy Hour – 4th Friday
DESCRIPTION:Monthly networking mixer held every 4th Friday in a relaxed\, island-inspired atmosphere. Features casual conversations\, business connections\, and community bonding to celebrate Aloha.
URL:https://9thislandchamber.org/event/aloha-friday-happy-hour-4th-friday/2027-02-26/
CATEGORIES:Aloha Friday Happy Hour
ATTACH;FMTTYPE=image/jpeg:https://9thislandchamber.org/wp-content/uploads/2026/01/Aloha-Friday-Happy-Hour-–-4th-Friday.jpg
END:VEVENT
BEGIN:VEVENT
DTSTART;VALUE=DATE:20270326
DTEND;VALUE=DATE:20270327
DTSTAMP:20260421T003723
CREATED:20260105T104432Z
LAST-MODIFIED:20260206T115839Z
UID:10000015-1806019200-1806105599@9thislandchamber.org
SUMMARY:Aloha Friday Happy Hour – 4th Friday
DESCRIPTION:Monthly networking mixer held every 4th Friday in a relaxed\, island-inspired atmosphere. Features casual conversations\, business connections\, and community bonding to celebrate Aloha.
URL:https://9thislandchamber.org/event/aloha-friday-happy-hour-4th-friday/2027-03-26/
CATEGORIES:Aloha Friday Happy Hour
ATTACH;FMTTYPE=image/jpeg:https://9thislandchamber.org/wp-content/uploads/2026/01/Aloha-Friday-Happy-Hour-–-4th-Friday.jpg
END:VEVENT
BEGIN:VEVENT
DTSTART;VALUE=DATE:20270430
DTEND;VALUE=DATE:20270501
DTSTAMP:20260421T003723
CREATED:20260105T104432Z
LAST-MODIFIED:20260206T115839Z
UID:10000016-1809043200-1809129599@9thislandchamber.org
SUMMARY:Aloha Friday Happy Hour – 4th Friday
DESCRIPTION:Monthly networking mixer held every 4th Friday in a relaxed\, island-inspired atmosphere. Features casual conversations\, business connections\, and community bonding to celebrate Aloha.
URL:https://9thislandchamber.org/event/aloha-friday-happy-hour-4th-friday/2027-04-30/
CATEGORIES:Aloha Friday Happy Hour
ATTACH;FMTTYPE=image/jpeg:https://9thislandchamber.org/wp-content/uploads/2026/01/Aloha-Friday-Happy-Hour-–-4th-Friday.jpg
END:VEVENT
BEGIN:VEVENT
DTSTART;VALUE=DATE:20270528
DTEND;VALUE=DATE:20270529
DTSTAMP:20260421T003723
CREATED:20260105T104432Z
LAST-MODIFIED:20260206T115839Z
UID:10000017-1811462400-1811548799@9thislandchamber.org
SUMMARY:Aloha Friday Happy Hour – 4th Friday
DESCRIPTION:Monthly networking mixer held every 4th Friday in a relaxed\, island-inspired atmosphere. Features casual conversations\, business connections\, and community bonding to celebrate Aloha.
URL:https://9thislandchamber.org/event/aloha-friday-happy-hour-4th-friday/2027-05-28/
CATEGORIES:Aloha Friday Happy Hour
ATTACH;FMTTYPE=image/jpeg:https://9thislandchamber.org/wp-content/uploads/2026/01/Aloha-Friday-Happy-Hour-–-4th-Friday.jpg
END:VEVENT
BEGIN:VEVENT
DTSTART;VALUE=DATE:20270625
DTEND;VALUE=DATE:20270626
DTSTAMP:20260421T003723
CREATED:20260105T104432Z
LAST-MODIFIED:20260206T115839Z
UID:10000018-1813881600-1813967999@9thislandchamber.org
SUMMARY:Aloha Friday Happy Hour – 4th Friday
DESCRIPTION:Monthly networking mixer held every 4th Friday in a relaxed\, island-inspired atmosphere. Features casual conversations\, business connections\, and community bonding to celebrate Aloha.
URL:https://9thislandchamber.org/event/aloha-friday-happy-hour-4th-friday/2027-06-25/
CATEGORIES:Aloha Friday Happy Hour
ATTACH;FMTTYPE=image/jpeg:https://9thislandchamber.org/wp-content/uploads/2026/01/Aloha-Friday-Happy-Hour-–-4th-Friday.jpg
END:VEVENT
BEGIN:VEVENT
DTSTART;VALUE=DATE:20270730
DTEND;VALUE=DATE:20270731
DTSTAMP:20260421T003723
CREATED:20260105T104432Z
LAST-MODIFIED:20260206T115839Z
UID:10000019-1816905600-1816991999@9thislandchamber.org
SUMMARY:Aloha Friday Happy Hour – 4th Friday
DESCRIPTION:Monthly networking mixer held every 4th Friday in a relaxed\, island-inspired atmosphere. Features casual conversations\, business connections\, and community bonding to celebrate Aloha.
URL:https://9thislandchamber.org/event/aloha-friday-happy-hour-4th-friday/2027-07-30/
CATEGORIES:Aloha Friday Happy Hour
ATTACH;FMTTYPE=image/jpeg:https://9thislandchamber.org/wp-content/uploads/2026/01/Aloha-Friday-Happy-Hour-–-4th-Friday.jpg
END:VEVENT
BEGIN:VEVENT
DTSTART;VALUE=DATE:20270827
DTEND;VALUE=DATE:20270828
DTSTAMP:20260421T003723
CREATED:20260105T104432Z
LAST-MODIFIED:20260206T115839Z
UID:10000020-1819324800-1819411199@9thislandchamber.org
SUMMARY:Aloha Friday Happy Hour – 4th Friday
DESCRIPTION:Monthly networking mixer held every 4th Friday in a relaxed\, island-inspired atmosphere. Features casual conversations\, business connections\, and community bonding to celebrate Aloha.
URL:https://9thislandchamber.org/event/aloha-friday-happy-hour-4th-friday/2027-08-27/
CATEGORIES:Aloha Friday Happy Hour
ATTACH;FMTTYPE=image/jpeg:https://9thislandchamber.org/wp-content/uploads/2026/01/Aloha-Friday-Happy-Hour-–-4th-Friday.jpg
END:VEVENT
BEGIN:VEVENT
DTSTART;VALUE=DATE:20270924
DTEND;VALUE=DATE:20270925
DTSTAMP:20260421T003723
CREATED:20260105T104432Z
LAST-MODIFIED:20260206T115839Z
UID:10000021-1821744000-1821830399@9thislandchamber.org
SUMMARY:Aloha Friday Happy Hour – 4th Friday
DESCRIPTION:Monthly networking mixer held every 4th Friday in a relaxed\, island-inspired atmosphere. Features casual conversations\, business connections\, and community bonding to celebrate Aloha.
URL:https://9thislandchamber.org/event/aloha-friday-happy-hour-4th-friday/2027-09-24/
CATEGORIES:Aloha Friday Happy Hour
ATTACH;FMTTYPE=image/jpeg:https://9thislandchamber.org/wp-content/uploads/2026/01/Aloha-Friday-Happy-Hour-–-4th-Friday.jpg
END:VEVENT
BEGIN:VEVENT
DTSTART;VALUE=DATE:20271029
DTEND;VALUE=DATE:20271030
DTSTAMP:20260421T003723
CREATED:20260105T104432Z
LAST-MODIFIED:20260206T115839Z
UID:10000022-1824768000-1824854399@9thislandchamber.org
SUMMARY:Aloha Friday Happy Hour – 4th Friday
DESCRIPTION:Monthly networking mixer held every 4th Friday in a relaxed\, island-inspired atmosphere. Features casual conversations\, business connections\, and community bonding to celebrate Aloha.
URL:https://9thislandchamber.org/event/aloha-friday-happy-hour-4th-friday/2027-10-29/
CATEGORIES:Aloha Friday Happy Hour
ATTACH;FMTTYPE=image/jpeg:https://9thislandchamber.org/wp-content/uploads/2026/01/Aloha-Friday-Happy-Hour-–-4th-Friday.jpg
END:VEVENT
BEGIN:VEVENT
DTSTART;VALUE=DATE:20271126
DTEND;VALUE=DATE:20271127
DTSTAMP:20260421T003723
CREATED:20260105T104432Z
LAST-MODIFIED:20260206T115839Z
UID:10000023-1827187200-1827273599@9thislandchamber.org
SUMMARY:Aloha Friday Happy Hour – 4th Friday
DESCRIPTION:Monthly networking mixer held every 4th Friday in a relaxed\, island-inspired atmosphere. Features casual conversations\, business connections\, and community bonding to celebrate Aloha.
URL:https://9thislandchamber.org/event/aloha-friday-happy-hour-4th-friday/2027-11-26/
CATEGORIES:Aloha Friday Happy Hour
ATTACH;FMTTYPE=image/jpeg:https://9thislandchamber.org/wp-content/uploads/2026/01/Aloha-Friday-Happy-Hour-–-4th-Friday.jpg
END:VEVENT
BEGIN:VEVENT
DTSTART;VALUE=DATE:20271231
DTEND;VALUE=DATE:20280101
DTSTAMP:20260421T003723
CREATED:20260105T104432Z
LAST-MODIFIED:20260206T115839Z
UID:10000024-1830211200-1830297599@9thislandchamber.org
SUMMARY:Aloha Friday Happy Hour – 4th Friday
DESCRIPTION:Monthly networking mixer held every 4th Friday in a relaxed\, island-inspired atmosphere. Features casual conversations\, business connections\, and community bonding to celebrate Aloha.
URL:https://9thislandchamber.org/event/aloha-friday-happy-hour-4th-friday/2027-12-31/
CATEGORIES:Aloha Friday Happy Hour
ATTACH;FMTTYPE=image/jpeg:https://9thislandchamber.org/wp-content/uploads/2026/01/Aloha-Friday-Happy-Hour-–-4th-Friday.jpg
END:VEVENT
BEGIN:VEVENT
DTSTART;VALUE=DATE:20280128
DTEND;VALUE=DATE:20280129
DTSTAMP:20260421T003723
CREATED:20260105T104432Z
LAST-MODIFIED:20260206T115839Z
UID:10000025-1832630400-1832716799@9thislandchamber.org
SUMMARY:Aloha Friday Happy Hour – 4th Friday
DESCRIPTION:Monthly networking mixer held every 4th Friday in a relaxed\, island-inspired atmosphere. Features casual conversations\, business connections\, and community bonding to celebrate Aloha.
URL:https://9thislandchamber.org/event/aloha-friday-happy-hour-4th-friday/2028-01-28/
CATEGORIES:Aloha Friday Happy Hour
ATTACH;FMTTYPE=image/jpeg:https://9thislandchamber.org/wp-content/uploads/2026/01/Aloha-Friday-Happy-Hour-–-4th-Friday.jpg
END:VEVENT
BEGIN:VEVENT
DTSTART;VALUE=DATE:20280225
DTEND;VALUE=DATE:20280226
DTSTAMP:20260421T003723
CREATED:20260105T104432Z
LAST-MODIFIED:20260206T115839Z
UID:10000026-1835049600-1835135999@9thislandchamber.org
SUMMARY:Aloha Friday Happy Hour – 4th Friday
DESCRIPTION:Monthly networking mixer held every 4th Friday in a relaxed\, island-inspired atmosphere. Features casual conversations\, business connections\, and community bonding to celebrate Aloha.
URL:https://9thislandchamber.org/event/aloha-friday-happy-hour-4th-friday/2028-02-25/
CATEGORIES:Aloha Friday Happy Hour
ATTACH;FMTTYPE=image/jpeg:https://9thislandchamber.org/wp-content/uploads/2026/01/Aloha-Friday-Happy-Hour-–-4th-Friday.jpg
END:VEVENT
BEGIN:VEVENT
DTSTART;VALUE=DATE:20280331
DTEND;VALUE=DATE:20280401
DTSTAMP:20260421T003723
CREATED:20260105T104432Z
LAST-MODIFIED:20260206T115839Z
UID:10000027-1838073600-1838159999@9thislandchamber.org
SUMMARY:Aloha Friday Happy Hour – 4th Friday
DESCRIPTION:Monthly networking mixer held every 4th Friday in a relaxed\, island-inspired atmosphere. Features casual conversations\, business connections\, and community bonding to celebrate Aloha.
URL:https://9thislandchamber.org/event/aloha-friday-happy-hour-4th-friday/2028-03-31/
CATEGORIES:Aloha Friday Happy Hour
ATTACH;FMTTYPE=image/jpeg:https://9thislandchamber.org/wp-content/uploads/2026/01/Aloha-Friday-Happy-Hour-–-4th-Friday.jpg
END:VEVENT
BEGIN:VEVENT
DTSTART;VALUE=DATE:20280428
DTEND;VALUE=DATE:20280429
DTSTAMP:20260421T003723
CREATED:20260105T104432Z
LAST-MODIFIED:20260206T115839Z
UID:10000028-1840492800-1840579199@9thislandchamber.org
SUMMARY:Aloha Friday Happy Hour – 4th Friday
DESCRIPTION:Monthly networking mixer held every 4th Friday in a relaxed\, island-inspired atmosphere. Features casual conversations\, business connections\, and community bonding to celebrate Aloha.
URL:https://9thislandchamber.org/event/aloha-friday-happy-hour-4th-friday/2028-04-28/
CATEGORIES:Aloha Friday Happy Hour
ATTACH;FMTTYPE=image/jpeg:https://9thislandchamber.org/wp-content/uploads/2026/01/Aloha-Friday-Happy-Hour-–-4th-Friday.jpg
END:VEVENT
BEGIN:VEVENT
DTSTART;VALUE=DATE:20280526
DTEND;VALUE=DATE:20280527
DTSTAMP:20260421T003723
CREATED:20260105T104432Z
LAST-MODIFIED:20260206T115839Z
UID:10000029-1842912000-1842998399@9thislandchamber.org
SUMMARY:Aloha Friday Happy Hour – 4th Friday
DESCRIPTION:Monthly networking mixer held every 4th Friday in a relaxed\, island-inspired atmosphere. Features casual conversations\, business connections\, and community bonding to celebrate Aloha.
URL:https://9thislandchamber.org/event/aloha-friday-happy-hour-4th-friday/2028-05-26/
CATEGORIES:Aloha Friday Happy Hour
ATTACH;FMTTYPE=image/jpeg:https://9thislandchamber.org/wp-content/uploads/2026/01/Aloha-Friday-Happy-Hour-–-4th-Friday.jpg
END:VEVENT
BEGIN:VEVENT
DTSTART;VALUE=DATE:20280630
DTEND;VALUE=DATE:20280701
DTSTAMP:20260421T003723
CREATED:20260105T104432Z
LAST-MODIFIED:20260206T115839Z
UID:10000030-1845936000-1846022399@9thislandchamber.org
SUMMARY:Aloha Friday Happy Hour – 4th Friday
DESCRIPTION:Monthly networking mixer held every 4th Friday in a relaxed\, island-inspired atmosphere. Features casual conversations\, business connections\, and community bonding to celebrate Aloha.
URL:https://9thislandchamber.org/event/aloha-friday-happy-hour-4th-friday/2028-06-30/
CATEGORIES:Aloha Friday Happy Hour
ATTACH;FMTTYPE=image/jpeg:https://9thislandchamber.org/wp-content/uploads/2026/01/Aloha-Friday-Happy-Hour-–-4th-Friday.jpg
END:VEVENT
BEGIN:VEVENT
DTSTART;VALUE=DATE:20280728
DTEND;VALUE=DATE:20280729
DTSTAMP:20260421T003723
CREATED:20260105T104432Z
LAST-MODIFIED:20260206T115839Z
UID:10000031-1848355200-1848441599@9thislandchamber.org
SUMMARY:Aloha Friday Happy Hour – 4th Friday
DESCRIPTION:Monthly networking mixer held every 4th Friday in a relaxed\, island-inspired atmosphere. Features casual conversations\, business connections\, and community bonding to celebrate Aloha.
URL:https://9thislandchamber.org/event/aloha-friday-happy-hour-4th-friday/2028-07-28/
CATEGORIES:Aloha Friday Happy Hour
ATTACH;FMTTYPE=image/jpeg:https://9thislandchamber.org/wp-content/uploads/2026/01/Aloha-Friday-Happy-Hour-–-4th-Friday.jpg
END:VEVENT
BEGIN:VEVENT
DTSTART;VALUE=DATE:20280825
DTEND;VALUE=DATE:20280826
DTSTAMP:20260421T003723
CREATED:20260105T104432Z
LAST-MODIFIED:20260206T115839Z
UID:10000032-1850774400-1850860799@9thislandchamber.org
SUMMARY:Aloha Friday Happy Hour – 4th Friday
DESCRIPTION:Monthly networking mixer held every 4th Friday in a relaxed\, island-inspired atmosphere. Features casual conversations\, business connections\, and community bonding to celebrate Aloha.
URL:https://9thislandchamber.org/event/aloha-friday-happy-hour-4th-friday/2028-08-25/
CATEGORIES:Aloha Friday Happy Hour
ATTACH;FMTTYPE=image/jpeg:https://9thislandchamber.org/wp-content/uploads/2026/01/Aloha-Friday-Happy-Hour-–-4th-Friday.jpg
END:VEVENT
BEGIN:VEVENT
DTSTART;VALUE=DATE:20280929
DTEND;VALUE=DATE:20280930
DTSTAMP:20260421T003723
CREATED:20260105T104432Z
LAST-MODIFIED:20260206T115839Z
UID:10000033-1853798400-1853884799@9thislandchamber.org
SUMMARY:Aloha Friday Happy Hour – 4th Friday
DESCRIPTION:Monthly networking mixer held every 4th Friday in a relaxed\, island-inspired atmosphere. Features casual conversations\, business connections\, and community bonding to celebrate Aloha.
URL:https://9thislandchamber.org/event/aloha-friday-happy-hour-4th-friday/2028-09-29/
CATEGORIES:Aloha Friday Happy Hour
ATTACH;FMTTYPE=image/jpeg:https://9thislandchamber.org/wp-content/uploads/2026/01/Aloha-Friday-Happy-Hour-–-4th-Friday.jpg
END:VEVENT
BEGIN:VEVENT
DTSTART;VALUE=DATE:20281027
DTEND;VALUE=DATE:20281028
DTSTAMP:20260421T003723
CREATED:20260105T104432Z
LAST-MODIFIED:20260206T115839Z
UID:10000034-1856217600-1856303999@9thislandchamber.org
SUMMARY:Aloha Friday Happy Hour – 4th Friday
DESCRIPTION:Monthly networking mixer held every 4th Friday in a relaxed\, island-inspired atmosphere. Features casual conversations\, business connections\, and community bonding to celebrate Aloha.
URL:https://9thislandchamber.org/event/aloha-friday-happy-hour-4th-friday/2028-10-27/
CATEGORIES:Aloha Friday Happy Hour
ATTACH;FMTTYPE=image/jpeg:https://9thislandchamber.org/wp-content/uploads/2026/01/Aloha-Friday-Happy-Hour-–-4th-Friday.jpg
END:VEVENT
BEGIN:VEVENT
DTSTART;VALUE=DATE:20281124
DTEND;VALUE=DATE:20281125
DTSTAMP:20260421T003723
CREATED:20260105T104432Z
LAST-MODIFIED:20260206T115839Z
UID:10000035-1858636800-1858723199@9thislandchamber.org
SUMMARY:Aloha Friday Happy Hour – 4th Friday
DESCRIPTION:Monthly networking mixer held every 4th Friday in a relaxed\, island-inspired atmosphere. Features casual conversations\, business connections\, and community bonding to celebrate Aloha.
URL:https://9thislandchamber.org/event/aloha-friday-happy-hour-4th-friday/2028-11-24/
CATEGORIES:Aloha Friday Happy Hour
ATTACH;FMTTYPE=image/jpeg:https://9thislandchamber.org/wp-content/uploads/2026/01/Aloha-Friday-Happy-Hour-–-4th-Friday.jpg
END:VEVENT
BEGIN:VEVENT
DTSTART;VALUE=DATE:20281229
DTEND;VALUE=DATE:20281230
DTSTAMP:20260421T003723
CREATED:20260105T104432Z
LAST-MODIFIED:20260206T115839Z
UID:10000036-1861660800-1861747199@9thislandchamber.org
SUMMARY:Aloha Friday Happy Hour – 4th Friday
DESCRIPTION:Monthly networking mixer held every 4th Friday in a relaxed\, island-inspired atmosphere. Features casual conversations\, business connections\, and community bonding to celebrate Aloha.
URL:https://9thislandchamber.org/event/aloha-friday-happy-hour-4th-friday/2028-12-29/
CATEGORIES:Aloha Friday Happy Hour
ATTACH;FMTTYPE=image/jpeg:https://9thislandchamber.org/wp-content/uploads/2026/01/Aloha-Friday-Happy-Hour-–-4th-Friday.jpg
END:VEVENT
BEGIN:VEVENT
DTSTART;VALUE=DATE:20290126
DTEND;VALUE=DATE:20290127
DTSTAMP:20260421T003723
CREATED:20260105T104432Z
LAST-MODIFIED:20260206T115839Z
UID:10000037-1864080000-1864166399@9thislandchamber.org
SUMMARY:Aloha Friday Happy Hour – 4th Friday
DESCRIPTION:Monthly networking mixer held every 4th Friday in a relaxed\, island-inspired atmosphere. Features casual conversations\, business connections\, and community bonding to celebrate Aloha.
URL:https://9thislandchamber.org/event/aloha-friday-happy-hour-4th-friday/2029-01-26/
CATEGORIES:Aloha Friday Happy Hour
ATTACH;FMTTYPE=image/jpeg:https://9thislandchamber.org/wp-content/uploads/2026/01/Aloha-Friday-Happy-Hour-–-4th-Friday.jpg
END:VEVENT
BEGIN:VEVENT
DTSTART;VALUE=DATE:20290223
DTEND;VALUE=DATE:20290224
DTSTAMP:20260421T003723
CREATED:20260105T104432Z
LAST-MODIFIED:20260206T115839Z
UID:10000038-1866499200-1866585599@9thislandchamber.org
SUMMARY:Aloha Friday Happy Hour – 4th Friday
DESCRIPTION:Monthly networking mixer held every 4th Friday in a relaxed\, island-inspired atmosphere. Features casual conversations\, business connections\, and community bonding to celebrate Aloha.
URL:https://9thislandchamber.org/event/aloha-friday-happy-hour-4th-friday/2029-02-23/
CATEGORIES:Aloha Friday Happy Hour
ATTACH;FMTTYPE=image/jpeg:https://9thislandchamber.org/wp-content/uploads/2026/01/Aloha-Friday-Happy-Hour-–-4th-Friday.jpg
END:VEVENT
BEGIN:VEVENT
DTSTART;VALUE=DATE:20290330
DTEND;VALUE=DATE:20290331
DTSTAMP:20260421T003723
CREATED:20260105T104432Z
LAST-MODIFIED:20260206T115839Z
UID:10000039-1869523200-1869609599@9thislandchamber.org
SUMMARY:Aloha Friday Happy Hour – 4th Friday
DESCRIPTION:Monthly networking mixer held every 4th Friday in a relaxed\, island-inspired atmosphere. Features casual conversations\, business connections\, and community bonding to celebrate Aloha.
URL:https://9thislandchamber.org/event/aloha-friday-happy-hour-4th-friday/2029-03-30/
CATEGORIES:Aloha Friday Happy Hour
ATTACH;FMTTYPE=image/jpeg:https://9thislandchamber.org/wp-content/uploads/2026/01/Aloha-Friday-Happy-Hour-–-4th-Friday.jpg
END:VEVENT
BEGIN:VEVENT
DTSTART;VALUE=DATE:20290427
DTEND;VALUE=DATE:20290428
DTSTAMP:20260421T003723
CREATED:20260105T104432Z
LAST-MODIFIED:20260206T115839Z
UID:10000040-1871942400-1872028799@9thislandchamber.org
SUMMARY:Aloha Friday Happy Hour – 4th Friday
DESCRIPTION:Monthly networking mixer held every 4th Friday in a relaxed\, island-inspired atmosphere. Features casual conversations\, business connections\, and community bonding to celebrate Aloha.
URL:https://9thislandchamber.org/event/aloha-friday-happy-hour-4th-friday/2029-04-27/
CATEGORIES:Aloha Friday Happy Hour
ATTACH;FMTTYPE=image/jpeg:https://9thislandchamber.org/wp-content/uploads/2026/01/Aloha-Friday-Happy-Hour-–-4th-Friday.jpg
END:VEVENT
BEGIN:VEVENT
DTSTART;VALUE=DATE:20290525
DTEND;VALUE=DATE:20290526
DTSTAMP:20260421T003723
CREATED:20260105T104432Z
LAST-MODIFIED:20260206T115839Z
UID:10000041-1874361600-1874447999@9thislandchamber.org
SUMMARY:Aloha Friday Happy Hour – 4th Friday
DESCRIPTION:Monthly networking mixer held every 4th Friday in a relaxed\, island-inspired atmosphere. Features casual conversations\, business connections\, and community bonding to celebrate Aloha.
URL:https://9thislandchamber.org/event/aloha-friday-happy-hour-4th-friday/2029-05-25/
CATEGORIES:Aloha Friday Happy Hour
ATTACH;FMTTYPE=image/jpeg:https://9thislandchamber.org/wp-content/uploads/2026/01/Aloha-Friday-Happy-Hour-–-4th-Friday.jpg
END:VEVENT
BEGIN:VEVENT
DTSTART;VALUE=DATE:20290629
DTEND;VALUE=DATE:20290630
DTSTAMP:20260421T003723
CREATED:20260105T104432Z
LAST-MODIFIED:20260206T115839Z
UID:10000042-1877385600-1877471999@9thislandchamber.org
SUMMARY:Aloha Friday Happy Hour – 4th Friday
DESCRIPTION:Monthly networking mixer held every 4th Friday in a relaxed\, island-inspired atmosphere. Features casual conversations\, business connections\, and community bonding to celebrate Aloha.
URL:https://9thislandchamber.org/event/aloha-friday-happy-hour-4th-friday/2029-06-29/
CATEGORIES:Aloha Friday Happy Hour
ATTACH;FMTTYPE=image/jpeg:https://9thislandchamber.org/wp-content/uploads/2026/01/Aloha-Friday-Happy-Hour-–-4th-Friday.jpg
END:VEVENT
BEGIN:VEVENT
DTSTART;VALUE=DATE:20290727
DTEND;VALUE=DATE:20290728
DTSTAMP:20260421T003723
CREATED:20260105T104432Z
LAST-MODIFIED:20260206T115839Z
UID:10000043-1879804800-1879891199@9thislandchamber.org
SUMMARY:Aloha Friday Happy Hour – 4th Friday
DESCRIPTION:Monthly networking mixer held every 4th Friday in a relaxed\, island-inspired atmosphere. Features casual conversations\, business connections\, and community bonding to celebrate Aloha.
URL:https://9thislandchamber.org/event/aloha-friday-happy-hour-4th-friday/2029-07-27/
CATEGORIES:Aloha Friday Happy Hour
ATTACH;FMTTYPE=image/jpeg:https://9thislandchamber.org/wp-content/uploads/2026/01/Aloha-Friday-Happy-Hour-–-4th-Friday.jpg
END:VEVENT
END:VCALENDAR