BEGIN:VCALENDAR
VERSION:2.0
PRODID:-//9thIslandChamber - ECPv6.15.20//NONSGML v1.0//EN
CALSCALE:GREGORIAN
METHOD:PUBLISH
X-WR-CALNAME:9thIslandChamber
X-ORIGINAL-URL:https://9thislandchamber.org
X-WR-CALDESC:Events for 9thIslandChamber
REFRESH-INTERVAL;VALUE=DURATION:PT1H
X-Robots-Tag:noindex
X-PUBLISHED-TTL:PT1H
BEGIN:VTIMEZONE
TZID:UTC
BEGIN:STANDARD
TZOFFSETFROM:+0000
TZOFFSETTO:+0000
TZNAME:UTC
DTSTART:20250101T000000
END:STANDARD
END:VTIMEZONE
BEGIN:VEVENT
DTSTART;VALUE=DATE:20260327
DTEND;VALUE=DATE:20260328
DTSTAMP:20260421T021755
CREATED:20260105T104432Z
LAST-MODIFIED:20260206T115839Z
UID:10000003-1774569600-1774655999@9thislandchamber.org
SUMMARY:Aloha Friday Happy Hour – 4th Friday
DESCRIPTION:Monthly networking mixer held every 4th Friday in a relaxed\, island-inspired atmosphere. Features casual conversations\, business connections\, and community bonding to celebrate Aloha.
URL:https://9thislandchamber.org/event/aloha-friday-happy-hour-4th-friday/2026-03-27/
CATEGORIES:Aloha Friday Happy Hour
ATTACH;FMTTYPE=image/jpeg:https://9thislandchamber.org/wp-content/uploads/2026/01/Aloha-Friday-Happy-Hour-–-4th-Friday.jpg
END:VEVENT
BEGIN:VEVENT
DTSTART;VALUE=DATE:20260228
DTEND;VALUE=DATE:20260301
DTSTAMP:20260421T021755
CREATED:20260105T120642Z
LAST-MODIFIED:20260111T112405Z
UID:10000063-1772236800-1772323199@9thislandchamber.org
SUMMARY:Ribbon Cutting & Groundbreaking Ceremonies
DESCRIPTION:Celebratory events for business openings\, expansions\, or milestones\, with Chamber coordination\, promotion\, and support.
URL:https://9thislandchamber.org/event/ribbon-cutting-groundbreaking-ceremonies/
CATEGORIES:Ribbon Cutting & Groundbreaking
ATTACH;FMTTYPE=image/jpeg:https://9thislandchamber.org/wp-content/uploads/2026/01/Ribbon-Cutting-Groundbreaking-Ceremonies.jpg
END:VEVENT
BEGIN:VEVENT
DTSTART;VALUE=DATE:20260227
DTEND;VALUE=DATE:20260228
DTSTAMP:20260421T021755
CREATED:20260105T104432Z
LAST-MODIFIED:20260206T115839Z
UID:10000002-1772150400-1772236799@9thislandchamber.org
SUMMARY:Aloha Friday Happy Hour – 4th Friday
DESCRIPTION:Monthly networking mixer held every 4th Friday in a relaxed\, island-inspired atmosphere. Features casual conversations\, business connections\, and community bonding to celebrate Aloha.
URL:https://9thislandchamber.org/event/aloha-friday-happy-hour-4th-friday/2026-02-27/
CATEGORIES:Aloha Friday Happy Hour
ATTACH;FMTTYPE=image/jpeg:https://9thislandchamber.org/wp-content/uploads/2026/01/Aloha-Friday-Happy-Hour-–-4th-Friday.jpg
END:VEVENT
BEGIN:VEVENT
DTSTART;VALUE=DATE:20260214
DTEND;VALUE=DATE:20260215
DTSTAMP:20260421T021755
CREATED:20260105T115342Z
LAST-MODIFIED:20260111T104305Z
UID:10000061-1771027200-1771113599@9thislandchamber.org
SUMMARY:Aloha Business Expo
DESCRIPTION:Signature showcase for businesses\, entrepreneurs\, and organizations. Includes interactive booths\, cultural experiences\, product/service sharing\, and networking.
URL:https://9thislandchamber.org/event/aloha-business-expo/
CATEGORIES:Aloha Business Expo
ATTACH;FMTTYPE=image/jpeg:https://9thislandchamber.org/wp-content/uploads/2026/01/Aloha-Business-Expo.jpg
END:VEVENT
BEGIN:VEVENT
DTSTART;VALUE=DATE:20260131
DTEND;VALUE=DATE:20260201
DTSTAMP:20260421T021755
CREATED:20260105T120201Z
LAST-MODIFIED:20260111T104250Z
UID:10000062-1769817600-1769903999@9thislandchamber.org
SUMMARY:Charity Walk Las Vegas
DESCRIPTION:Community walk raising funds for local nonprofits. Emphasizes giving back with sponsorships\, donations\, and team participation.
URL:https://9thislandchamber.org/event/charity-walk-las-vegas/
CATEGORIES:Charity Walk Las Vegas Strip
ATTACH;FMTTYPE=image/jpeg:https://9thislandchamber.org/wp-content/uploads/2026/01/Charity-Walk-Las-Vegas.jpg
END:VEVENT
BEGIN:VEVENT
DTSTART;VALUE=DATE:20260130
DTEND;VALUE=DATE:20260131
DTSTAMP:20260421T021755
CREATED:20260105T104432Z
LAST-MODIFIED:20260206T115839Z
UID:10000001-1769731200-1769817599@9thislandchamber.org
SUMMARY:Aloha Friday Happy Hour – 4th Friday
DESCRIPTION:Monthly networking mixer held every 4th Friday in a relaxed\, island-inspired atmosphere. Features casual conversations\, business connections\, and community bonding to celebrate Aloha.
URL:https://9thislandchamber.org/event/aloha-friday-happy-hour-4th-friday/2026-01-30/
CATEGORIES:Aloha Friday Happy Hour
ATTACH;FMTTYPE=image/jpeg:https://9thislandchamber.org/wp-content/uploads/2026/01/Aloha-Friday-Happy-Hour-–-4th-Friday.jpg
END:VEVENT
END:VCALENDAR