BEGIN:VCALENDAR
VERSION:2.0
PRODID:-//9thIslandChamber - ECPv6.15.20//NONSGML v1.0//EN
CALSCALE:GREGORIAN
METHOD:PUBLISH
X-WR-CALNAME:9thIslandChamber
X-ORIGINAL-URL:https://9thislandchamber.org
X-WR-CALDESC:Events for 9thIslandChamber
REFRESH-INTERVAL;VALUE=DURATION:PT1H
X-Robots-Tag:noindex
X-PUBLISHED-TTL:PT1H
BEGIN:VTIMEZONE
TZID:UTC
BEGIN:STANDARD
TZOFFSETFROM:+0000
TZOFFSETTO:+0000
TZNAME:UTC
DTSTART:20250101T000000
END:STANDARD
END:VTIMEZONE
BEGIN:VEVENT
DTSTART;VALUE=DATE:20261030
DTEND;VALUE=DATE:20261031
DTSTAMP:20260421T050517
CREATED:20260105T104432Z
LAST-MODIFIED:20260206T115839Z
UID:10000010-1793318400-1793404799@9thislandchamber.org
SUMMARY:Aloha Friday Happy Hour – 4th Friday
DESCRIPTION:Monthly networking mixer held every 4th Friday in a relaxed\, island-inspired atmosphere. Features casual conversations\, business connections\, and community bonding to celebrate Aloha.
URL:https://9thislandchamber.org/event/aloha-friday-happy-hour-4th-friday/2026-10-30/
CATEGORIES:Aloha Friday Happy Hour
ATTACH;FMTTYPE=image/jpeg:https://9thislandchamber.org/wp-content/uploads/2026/01/Aloha-Friday-Happy-Hour-–-4th-Friday.jpg
END:VEVENT
END:VCALENDAR